BEGIN:VCALENDAR
VERSION:2.0
PRODID:-//Southwest Leadership Academy - ECPv6.15.20//NONSGML v1.0//EN
CALSCALE:GREGORIAN
METHOD:PUBLISH
X-WR-CALNAME:Southwest Leadership Academy
X-ORIGINAL-URL:https://southwestleadershipacademy.com
X-WR-CALDESC:Events for Southwest Leadership Academy
REFRESH-INTERVAL;VALUE=DURATION:PT1H
X-Robots-Tag:noindex
X-PUBLISHED-TTL:PT1H
BEGIN:VTIMEZONE
TZID:America/Phoenix
BEGIN:STANDARD
TZOFFSETFROM:-0700
TZOFFSETTO:-0700
TZNAME:MST
DTSTART:20220101T000000
END:STANDARD
END:VTIMEZONE
BEGIN:VEVENT
DTSTART;VALUE=DATE:20231110
DTEND;VALUE=DATE:20231111
DTSTAMP:20260421T121406
CREATED:20230919T190730Z
LAST-MODIFIED:20230919T210833Z
UID:2627-1699574400-1699660799@southwestleadershipacademy.com
SUMMARY:No School-Veteran's Day
DESCRIPTION:
URL:https://southwestleadershipacademy.com/event/veterans-day-2/
CATEGORIES:Holiday
END:VEVENT
END:VCALENDAR